BEGIN:VCALENDAR
VERSION:2.0
PRODID:-//Agape Temple Seventh day Adventist church - ECPv6.15.18//NONSGML v1.0//EN
CALSCALE:GREGORIAN
METHOD:PUBLISH
X-ORIGINAL-URL:https://agapetemplesda.com
X-WR-CALDESC:Events for Agape Temple Seventh day Adventist church
REFRESH-INTERVAL;VALUE=DURATION:PT1H
X-Robots-Tag:noindex
X-PUBLISHED-TTL:PT1H
BEGIN:VTIMEZONE
TZID:UTC
BEGIN:STANDARD
TZOFFSETFROM:+0000
TZOFFSETTO:+0000
TZNAME:UTC
DTSTART:20240101T000000
END:STANDARD
END:VTIMEZONE
BEGIN:VEVENT
DTSTART;TZID=UTC:20250302T183000
DTEND;TZID=UTC:20250302T210000
DTSTAMP:20260422T084831
CREATED:20250215T004400Z
LAST-MODIFIED:20250215T004746Z
UID:1093-1740940200-1740949200@agapetemplesda.com
SUMMARY:Real\, Raw\, and Ready Experience at Agape Temple – March 2-8
DESCRIPTION:Join us at Agape Temple from March 2-8! Socializing starts at 6:30 PM\, and the main event runs from 7:00-9:00 PM. Don’t miss the Career Fair & Pop-Up Shop on March 8.\nExperience something real\, raw\, and ready at Agape Temple from March 2-8! Join us for powerful discussions\, socializing\, and an impactful main event featuring Oakwood University Seminary students. Don’t miss the Career Fair & Pop-Up Shop on March 8.
URL:https://agapetemplesda.com/event/real-raw-and-ready-experience-at-agape-temple-march-2-8/
CATEGORIES:Church
END:VEVENT
END:VCALENDAR