BEGIN:VCALENDAR
VERSION:2.0
PRODID:-//Agape Temple Seventh day Adventist church - ECPv6.15.18//NONSGML v1.0//EN
CALSCALE:GREGORIAN
METHOD:PUBLISH
X-WR-CALNAME:Agape Temple Seventh day Adventist church
X-ORIGINAL-URL:https://agapetemplesda.com
X-WR-CALDESC:Events for Agape Temple Seventh day Adventist church
REFRESH-INTERVAL;VALUE=DURATION:PT1H
X-Robots-Tag:noindex
X-PUBLISHED-TTL:PT1H
BEGIN:VTIMEZONE
TZID:UTC
BEGIN:STANDARD
TZOFFSETFROM:+0000
TZOFFSETTO:+0000
TZNAME:UTC
DTSTART:20240101T000000
END:STANDARD
END:VTIMEZONE
BEGIN:VEVENT
DTSTART;TZID=UTC:20250503T200000
DTEND;TZID=UTC:20250503T200000
DTSTAMP:20260422T070638
CREATED:20250412T154337Z
LAST-MODIFIED:20250412T154803Z
UID:1130-1746302400-1746302400@agapetemplesda.com
SUMMARY:3 on 3. Basketball Tournament.
DESCRIPTION:It’s time to lace up\, and bring your best game\, it’s 3 on  3. Basketball Tournament. May 3\, 2025. Age 12 and up. $15 per team
URL:https://agapetemplesda.com/event/3-on-3-basketball-tournament/
END:VEVENT
BEGIN:VEVENT
DTSTART;TZID=UTC:20250524T160000
DTEND;TZID=UTC:20250524T160000
DTSTAMP:20260422T070638
CREATED:20250412T154455Z
LAST-MODIFIED:20250412T154602Z
UID:1132-1748102400-1748102400@agapetemplesda.com
SUMMARY:16th Annual Bikers Blessing
DESCRIPTION:Hit the throttle and put rubber to the road—our journey leads to Agape Temple on May 24th at 4 PM for the 16th Annual Bikers Blessing!
URL:https://agapetemplesda.com/event/16th-annual-bikers-blessing/
END:VEVENT
END:VCALENDAR