BEGIN:VCALENDAR
VERSION:2.0
PRODID:-//Agape Temple Seventh day Adventist church - ECPv6.15.18//NONSGML v1.0//EN
CALSCALE:GREGORIAN
METHOD:PUBLISH
X-WR-CALNAME:Agape Temple Seventh day Adventist church
X-ORIGINAL-URL:https://agapetemplesda.com
X-WR-CALDESC:Events for Agape Temple Seventh day Adventist church
REFRESH-INTERVAL;VALUE=DURATION:PT1H
X-Robots-Tag:noindex
X-PUBLISHED-TTL:PT1H
BEGIN:VTIMEZONE
TZID:UTC
BEGIN:STANDARD
TZOFFSETFROM:+0000
TZOFFSETTO:+0000
TZNAME:UTC
DTSTART:20240101T000000
END:STANDARD
END:VTIMEZONE
BEGIN:VEVENT
DTSTART;TZID=UTC:20250511T150000
DTEND;TZID=UTC:20250511T190000
DTSTAMP:20260422T065043
CREATED:20250515T000328Z
LAST-MODIFIED:20250515T000328Z
UID:1143-1746975600-1746990000@agapetemplesda.com
SUMMARY:Mother's Day Banquet
DESCRIPTION:Join Agape Temple Seventh Day Adventist Church for a heartfelt Mother’s Day Banquet celebrating the love\, sacrifice\, and faith of mothers. Experience an inspiring evening filled with fellowship\, delicious food\, and special tributes honoring the sacred calling of motherhood. This event is an opportunity to express gratitude and uplift the women who nurture our spiritual and family lives. All are welcome to share in this joyous occasion as we come together to honor mothers and their vital role in our community. Celebrate with us at 1999 Fairport Rd\, Pickering\, and be part of this memorable day.
URL:https://agapetemplesda.com/event/mothers-day-banquet/
LOCATION:Agape Temple Church\, 1999 Fairport Rd\,\, Pickering\, Ontario\, L1V 4M2\, Canada
ATTACH;FMTTYPE=image/jpeg:https://agapetemplesda.com/wp-content/uploads/2025/05/Image_fx-1.jpg
END:VEVENT
END:VCALENDAR