BEGIN:VCALENDAR
VERSION:2.0
PRODID:-//Agape Temple Seventh day Adventist church - ECPv6.15.18//NONSGML v1.0//EN
CALSCALE:GREGORIAN
METHOD:PUBLISH
X-ORIGINAL-URL:https://agapetemplesda.com
X-WR-CALDESC:Events for Agape Temple Seventh day Adventist church
REFRESH-INTERVAL;VALUE=DURATION:PT1H
X-Robots-Tag:noindex
X-PUBLISHED-TTL:PT1H
BEGIN:VTIMEZONE
TZID:UTC
BEGIN:STANDARD
TZOFFSETFROM:+0000
TZOFFSETTO:+0000
TZNAME:UTC
DTSTART:20250101T000000
END:STANDARD
END:VTIMEZONE
BEGIN:VEVENT
DTSTART;TZID=UTC:20260524T130000
DTEND;TZID=UTC:20260524T160000
DTSTAMP:20260421T194401
CREATED:20260321T151751Z
LAST-MODIFIED:20260321T152253Z
UID:1286-1779627600-1779638400@agapetemplesda.com
SUMMARY:Sensational Seniors High Tea Party
DESCRIPTION:You are cordially invited to the Sensational Seniors High Tea Party! Join us for an afternoon of community and elegance on May 24\, 2026\, from 1:00 PM to 4:00 PM at 1999 Fairport Road.\nIn honor of our community\, guests 65 and over attend for free\, while tickets for those 64 and under are $60. Please wear your most stylish hat or fascinator and bring along your favorite teacup and saucer to share in the tradition.\nRSVP is required to attend. Secure your seat today by calling 905-839-1892 or 647-218-6283. We look forward to tea with you!\nSensational Seniors High Tea Party Registration\nRegister to attend the High Tea Party on May 24th\, 2026\, from 1:00 to 4:00 p.m.\nComplete Registration: https://form.jotform.com/260658868758076
URL:https://agapetemplesda.com/event/sensational-seniors-high-tea-party/
END:VEVENT
END:VCALENDAR